BEGIN:VCALENDAR
VERSION:2.0
PRODID:-//Sabre//Sabre VObject 4.5.8//EN
CALSCALE:GREGORIAN
BEGIN:VEVENT
UID:sabre-vobject-4407112b-1f8f-4c45-849f-4ea3d950dbab
DTSTAMP:20260424T161358Z
SUMMARY:Maiandacht der KLB in St. Michael
DESCRIPTION:https://polling.bistum-augsburg-portal.de/maiandacht-der-klb-in
 -st-michael_id1750237
DTSTART;TZID=Europe/Berlin:20260508T193000
DURATION:PT30M
LOCATION:St. Michael\, Otostraße 2\, 82398 Polling Etting
END:VEVENT
END:VCALENDAR
