BEGIN:VCALENDAR
VERSION:2.0
PRODID:-//Sabre//Sabre VObject 4.5.8//EN
CALSCALE:GREGORIAN
BEGIN:VEVENT
UID:sabre-vobject-1cfeae04-6c93-4152-8f7f-4a0dcc666a4e
DTSTAMP:20260424T163235Z
SUMMARY:Rosenkranz für den Frieden (in d. Klosterkapelle)
DESCRIPTION:https://polling.bistum-augsburg-portal.de/rosenkranz-fuer-den-f
 rieden-in-d-klosterkapelle_id1750261
DTSTART;TZID=Europe/Berlin:20260504T180000
DURATION:PT30M
LOCATION:Heilig Kreuz
END:VEVENT
END:VCALENDAR
