BEGIN:VCALENDAR
VERSION:2.0
PRODID:-//Sabre//Sabre VObject 4.5.8//EN
CALSCALE:GREGORIAN
BEGIN:VEVENT
UID:sabre-vobject-0fb54dd0-4e74-451c-bba3-c5d80ec300e2
DTSTAMP:20260424T161358Z
SUMMARY:Maiandacht\, anschl. eucharist. Lichterprozession
DESCRIPTION:https://polling.bistum-augsburg-portal.de/maiandacht-anschl-euc
 harist-lichterprozession_id1750264
DTSTART;TZID=Europe/Berlin:20260502T203000
DURATION:PT30M
LOCATION:Heilig Kreuz
END:VEVENT
END:VCALENDAR
