BEGIN:VCALENDAR
VERSION:2.0
PRODID:-//Sabre//Sabre VObject 4.5.8//EN
CALSCALE:GREGORIAN
BEGIN:VEVENT
UID:sabre-vobject-9b4a75b4-d4d6-42d1-bb56-53178537345b
DTSTAMP:20260424T193804Z
SUMMARY:Festgottesdienst/Hl.-Kreuz-Fest
DESCRIPTION:https://polling.bistum-augsburg-portal.de/festgottesdienst-hl-k
 reuz-fest_id1750265
DTSTART;TZID=Europe/Berlin:20260503T093000
DURATION:PT30M
LOCATION:Heilig Kreuz
END:VEVENT
END:VCALENDAR
