BEGIN:VCALENDAR
VERSION:2.0
PRODID:-//Sabre//Sabre VObject 4.5.8//EN
CALSCALE:GREGORIAN
BEGIN:VEVENT
UID:sabre-vobject-78088097-68df-40f5-975e-95ba5f84b330
DTSTAMP:20260424T143201Z
SUMMARY:Heilig Kreuz Fest
DESCRIPTION:https://polling.bistum-augsburg-portal.de/veranstaltungen/heili
 g-kreuz-fest_id1755781
DTSTART;TZID=Europe/Berlin:20260502T203000
DTEND;TZID=Europe/Berlin:20260602T223000
END:VEVENT
END:VCALENDAR
