BEGIN:VCALENDAR
VERSION:2.0
PRODID:-//Sabre//Sabre VObject 4.5.8//EN
CALSCALE:GREGORIAN
BEGIN:VEVENT
UID:sabre-vobject-60cad8c6-522e-49f5-afc1-58a27f87516a
DTSTAMP:20260424T141420Z
SUMMARY:Heilig Kreuz Festgottesdienst
DESCRIPTION:https://polling.bistum-augsburg-portal.de/veranstaltungen/heili
 g-kreuz-festgottesdienst_id1755782
DTSTART;TZID=Europe/Berlin:20260503T093000
DTEND;TZID=Europe/Berlin:20260503T103000
END:VEVENT
END:VCALENDAR
